BEGIN:VCALENDAR
PRODID:-//eluceo/ical//2.0/EN
VERSION:2.0
CALSCALE:GREGORIAN
BEGIN:VEVENT
UID:293dcfada5e169a0f06194776c68c9f9
DTSTAMP:20260423T040126Z
SUMMARY:Fyrabig Apéro
DESCRIPTION:Web stranica: http://www.waldstaetterhof.ch
URL:https://rotary-schwyz.ch/bs/agenda/show/143349
DTSTART;TZID=Europe/Zurich:20220627T180000
DTEND;TZID=Europe/Zurich:20220627T200000
LOCATION:Seehotel Waldstätterhof\, Waldstätterquai 6\, 6440 Brunnen
CATEGORIES:Rotary
END:VEVENT
BEGIN:VTIMEZONE
TZID:Europe/Zurich
BEGIN:DAYLIGHT
DTSTART:20220627T180000
TZNAME:CEST
TZOFFSETTO:+0200
TZOFFSETFROM:+0200
END:DAYLIGHT
END:VTIMEZONE
END:VCALENDAR
