BEGIN:VCALENDAR
PRODID:-//eluceo/ical//2.0/EN
VERSION:2.0
CALSCALE:GREGORIAN
BEGIN:VEVENT
UID:36247794615ac3f4ea8c71fce3a7e39e
DTSTAMP:20260425T123248Z
SUMMARY:«Rück- und Ausblick 2.5 Jahre nach Aufbruch nach Bern» Othmar Re
 ichmuth\, Ständerat Kanton Schwyz
DESCRIPTION:Web stranica: http://www.waldstaetterhof.ch
URL:https://rotary-schwyz.ch/bs/agenda/show/143352
DTSTART;TZID=Europe/Zurich:20220711T120000
DTEND;TZID=Europe/Zurich:20220711T133000
LOCATION:Seehotel Waldstätterhof\, Waldstätterquai 6\, 6440 Brunnen
CATEGORIES:Rotary
END:VEVENT
BEGIN:VTIMEZONE
TZID:Europe/Zurich
BEGIN:DAYLIGHT
DTSTART:20220711T120000
TZNAME:CEST
TZOFFSETTO:+0200
TZOFFSETFROM:+0200
END:DAYLIGHT
END:VTIMEZONE
END:VCALENDAR
