BEGIN:VCALENDAR
PRODID:-//eluceo/ical//2.0/EN
VERSION:2.0
CALSCALE:GREGORIAN
BEGIN:VEVENT
UID:efb9d35c8566847d01bee305b16a672e
DTSTAMP:20260422T130152Z
SUMMARY:Jugendaustausch
DESCRIPTION:Govornik(ci): Melissa Sanchez Hueck
URL:https://rotary-schwyz.ch/bs/agenda/show/25953
DTSTART;TZID=Europe/Zurich:20121029T120000
DTEND;TZID=Europe/Zurich:20121029T120000
LOCATION:Hotel Wysses Rössli\, Schwyz
CATEGORIES:Rotary
END:VEVENT
BEGIN:VTIMEZONE
TZID:Europe/Zurich
BEGIN:STANDARD
DTSTART:20121029T120000
TZNAME:CET
TZOFFSETTO:+0100
TZOFFSETFROM:+0100
END:STANDARD
END:VTIMEZONE
END:VCALENDAR
