BEGIN:VCALENDAR
PRODID:-//eluceo/ical//2.0/EN
VERSION:2.0
CALSCALE:GREGORIAN
BEGIN:VEVENT
UID:4b194290210e8f58c9b817eae7bea6f1
DTSTAMP:20260422T144404Z
SUMMARY:Governorbesuch
DESCRIPTION:Govornik(ci): Governor Paul Meier
URL:https://rotary-schwyz.ch/bs/agenda/show/27037
DTSTART;TZID=Europe/Zurich:20121119T120000
DTEND;TZID=Europe/Zurich:20121119T120000
LOCATION:Hotel Wysses Rössli\, Schwyz
CATEGORIES:Rotary
END:VEVENT
BEGIN:VTIMEZONE
TZID:Europe/Zurich
BEGIN:STANDARD
DTSTART:20121119T120000
TZNAME:CET
TZOFFSETTO:+0100
TZOFFSETFROM:+0100
END:STANDARD
END:VTIMEZONE
END:VCALENDAR
