BEGIN:VCALENDAR
PRODID:-//eluceo/ical//2.0/EN
VERSION:2.0
CALSCALE:GREGORIAN
BEGIN:VEVENT
UID:38dd6c88df4cb509f8c9936a4c9178dd
DTSTAMP:20260422T125611Z
SUMMARY:Plauderlunch
DESCRIPTION:
URL:https://rotary-schwyz.ch/bs/agenda/show/27041
DTSTART;TZID=Europe/Zurich:20121217T120000
DTEND;TZID=Europe/Zurich:20121217T120000
LOCATION:Hotel Wysses Rössli\, Schwyz
CATEGORIES:Rotary
END:VEVENT
BEGIN:VTIMEZONE
TZID:Europe/Zurich
BEGIN:STANDARD
DTSTART:20121217T120000
TZNAME:CET
TZOFFSETTO:+0100
TZOFFSETFROM:+0100
END:STANDARD
END:VTIMEZONE
END:VCALENDAR
