BEGIN:VCALENDAR
PRODID:-//eluceo/ical//2.0/EN
VERSION:2.0
CALSCALE:GREGORIAN
BEGIN:VEVENT
UID:41f862b8ef0c20d2fa2848d0de4549dc
DTSTAMP:20260422T130220Z
SUMMARY:Plauderlunch zum 1. Fasnachtstag
DESCRIPTION:
URL:https://rotary-schwyz.ch/bs/agenda/show/28138
DTSTART;TZID=Europe/Zurich:20130107T120000
DTEND;TZID=Europe/Zurich:20130107T120000
LOCATION:Hotel Wysses Rössli\, Schwyz
CATEGORIES:Rotary
END:VEVENT
BEGIN:VTIMEZONE
TZID:Europe/Zurich
BEGIN:STANDARD
DTSTART:20130107T120000
TZNAME:CET
TZOFFSETTO:+0100
TZOFFSETFROM:+0100
END:STANDARD
END:VTIMEZONE
END:VCALENDAR
