BEGIN:VCALENDAR
PRODID:-//eluceo/ical//2.0/EN
VERSION:2.0
CALSCALE:GREGORIAN
BEGIN:VEVENT
UID:4a25dae7ccd45b94527e89d7036ac6f6
DTSTAMP:20260419T131414Z
SUMMARY:Plauderlunch in Küssnacht
DESCRIPTION:
URL:https://rotary-schwyz.ch/bs/agenda/show/29844
DTSTART;TZID=Europe/Zurich:20130429T120000
DTEND;TZID=Europe/Zurich:20130429T120000
LOCATION:Hotel du lac Seehof\, Küssnacht am Rigi
CATEGORIES:Rotary
END:VEVENT
BEGIN:VTIMEZONE
TZID:Europe/Zurich
BEGIN:DAYLIGHT
DTSTART:20130429T120000
TZNAME:CEST
TZOFFSETTO:+0200
TZOFFSETFROM:+0200
END:DAYLIGHT
END:VTIMEZONE
END:VCALENDAR
