BEGIN:VCALENDAR
PRODID:-//eluceo/ical//2.0/EN
VERSION:2.0
CALSCALE:GREGORIAN
BEGIN:VEVENT
UID:b2c99e231d2c2337134273b92457040e
DTSTAMP:20260423T100102Z
SUMMARY:Zurück in die Mönchszelle
DESCRIPTION:Govornik(ci): Abt Martin Werlen\, Kloster Einsiedeln
URL:https://rotary-schwyz.ch/bs/agenda/show/34333
DTSTART;TZID=Europe/Zurich:20131028T120000
DTEND;TZID=Europe/Zurich:20131028T120000
LOCATION:Hotel Wysses Rössli\, Schwyz
CATEGORIES:Rotary
END:VEVENT
BEGIN:VTIMEZONE
TZID:Europe/Zurich
BEGIN:STANDARD
DTSTART:20131028T120000
TZNAME:CET
TZOFFSETTO:+0100
TZOFFSETFROM:+0100
END:STANDARD
END:VTIMEZONE
END:VCALENDAR
