BEGIN:VCALENDAR
PRODID:-//eluceo/ical//2.0/EN
VERSION:2.0
CALSCALE:GREGORIAN
BEGIN:VEVENT
UID:29929b0d81cf8631cfa57c8bda40225a
DTSTAMP:20260421T110047Z
SUMMARY:Whisky\, Dudelsack und Hochlandrinder (Partneranlass gemäss separa
 ter Einladung)
DESCRIPTION:Govornik(ci): Ralph Warth\, Rare Whisky Consultant\, Lachen
URL:https://rotary-schwyz.ch/bs/agenda/show/38907
DTSTART;TZID=Europe/Zurich:20140331T184500
DTEND;TZID=Europe/Zurich:20140331T184500
LOCATION:Hotel Wysses Rössli\, Schwyz
CATEGORIES:Rotary
END:VEVENT
BEGIN:VTIMEZONE
TZID:Europe/Zurich
BEGIN:DAYLIGHT
DTSTART:20140331T184500
TZNAME:CEST
TZOFFSETTO:+0200
TZOFFSETFROM:+0200
END:DAYLIGHT
END:VTIMEZONE
END:VCALENDAR
