BEGIN:VCALENDAR
PRODID:-//eluceo/ical//2.0/EN
VERSION:2.0
CALSCALE:GREGORIAN
BEGIN:VEVENT
UID:89e2e34c6197d0797f72cc7b9e940fbf
DTSTAMP:20260423T093337Z
SUMMARY:Amazing Thailand (vorgängig 10:45 Vorstandssitzung)
DESCRIPTION:Govornik(ci): Guido Baumann\, Bangkok
URL:https://rotary-schwyz.ch/bs/agenda/show/43762
DTSTART;TZID=Europe/Zurich:20140908T120000
DTEND;TZID=Europe/Zurich:20140908T120000
LOCATION:Seehotel Waldstätterhof\, Brunnen
CATEGORIES:Rotary
END:VEVENT
BEGIN:VTIMEZONE
TZID:Europe/Zurich
BEGIN:DAYLIGHT
DTSTART:20140908T120000
TZNAME:CEST
TZOFFSETTO:+0200
TZOFFSETFROM:+0200
END:DAYLIGHT
END:VTIMEZONE
END:VCALENDAR
