BEGIN:VCALENDAR
PRODID:-//eluceo/ical//2.0/EN
VERSION:2.0
CALSCALE:GREGORIAN
BEGIN:VEVENT
UID:2301c8cd2d1956faa15d0edb78dffb55
DTSTAMP:20260423T114446Z
SUMMARY:Klassifikationsvortrag Andreas Lukoschik
DESCRIPTION:Govornik(ci): Rot. Andreas Lukoschik
URL:https://rotary-schwyz.ch/bs/agenda/show/43863
DTSTART;TZID=Europe/Zurich:20140929T120000
DTEND;TZID=Europe/Zurich:20140929T120000
LOCATION:Seehotel Waldstätterhof\, Brunnen
CATEGORIES:Rotary
END:VEVENT
BEGIN:VTIMEZONE
TZID:Europe/Zurich
BEGIN:DAYLIGHT
DTSTART:20140929T120000
TZNAME:CEST
TZOFFSETTO:+0200
TZOFFSETFROM:+0200
END:DAYLIGHT
END:VTIMEZONE
END:VCALENDAR
