BEGIN:VCALENDAR
PRODID:-//eluceo/ical//2.0/EN
VERSION:2.0
CALSCALE:GREGORIAN
BEGIN:VEVENT
UID:b0acb7326397f582dfb06a690c313526
DTSTAMP:20260424T084303Z
SUMMARY:Lunch in der Suppenanstalt Schwyz
DESCRIPTION:
URL:https://rotary-schwyz.ch/bs/agenda/show/45552
DTSTART;TZID=Europe/Zurich:20150119T120000
DTEND;TZID=Europe/Zurich:20150119T120000
LOCATION:Schulhaus Herrengasse\, Schwyz
CATEGORIES:Rotary
END:VEVENT
BEGIN:VTIMEZONE
TZID:Europe/Zurich
BEGIN:STANDARD
DTSTART:20150119T120000
TZNAME:CET
TZOFFSETTO:+0100
TZOFFSETFROM:+0100
END:STANDARD
END:VTIMEZONE
END:VCALENDAR
