BEGIN:VCALENDAR
PRODID:-//eluceo/ical//2.0/EN
VERSION:2.0
CALSCALE:GREGORIAN
BEGIN:VEVENT
UID:c7eb0e0780ef7b8ffeeeb41d3bc1b0d1
DTSTAMP:20260422T213601Z
SUMMARY:Amtsübergabe an Präsident Toni Eberhard
DESCRIPTION:Govornik(ci): Partneranlass gemäss separater Einladung.
URL:https://rotary-schwyz.ch/bs/agenda/show/50423
DTSTART;TZID=Europe/Zurich:20150629T180000
DTEND;TZID=Europe/Zurich:20150629T180000
LOCATION:Hotel Restaurant Swiss Chalet\, Merlischachen
CATEGORIES:Rotary
END:VEVENT
BEGIN:VTIMEZONE
TZID:Europe/Zurich
BEGIN:DAYLIGHT
DTSTART:20150629T180000
TZNAME:CEST
TZOFFSETTO:+0200
TZOFFSETFROM:+0200
END:DAYLIGHT
END:VTIMEZONE
END:VCALENDAR
