BEGIN:VCALENDAR
PRODID:-//eluceo/ical//2.0/EN
VERSION:2.0
CALSCALE:GREGORIAN
BEGIN:VEVENT
UID:a1221f76e3d7ee69fde8967b78e1ac62
DTSTAMP:20260422T232144Z
SUMMARY:Kein Rotary-Meeting (Ostermontag)
DESCRIPTION:
URL:https://rotary-schwyz.ch/bs/agenda/show/60114
DTSTART;TZID=Europe/Zurich:20160328T000000
DTEND;TZID=Europe/Zurich:20160328T000000
LOCATION:-
CATEGORIES:Rotary
END:VEVENT
BEGIN:VTIMEZONE
TZID:Europe/Zurich
BEGIN:DAYLIGHT
DTSTART:20160328T000000
TZNAME:CEST
TZOFFSETTO:+0200
TZOFFSETFROM:+0200
END:DAYLIGHT
END:VTIMEZONE
END:VCALENDAR
