BEGIN:VCALENDAR
PRODID:-//eluceo/ical//2.0/EN
VERSION:2.0
CALSCALE:GREGORIAN
BEGIN:VEVENT
UID:e634e13199b0390e1695c642353ffe5d
DTSTAMP:20260422T231955Z
SUMMARY:Lehrlingsaustausch über den Röstigraben
DESCRIPTION:Govornik(ci): RC Aubonne/VD
URL:https://rotary-schwyz.ch/bs/agenda/show/61395
DTSTART;TZID=Europe/Zurich:20160530T120000
DTEND;TZID=Europe/Zurich:20160530T120000
LOCATION:Seehotel Waldstätterhof\, Brunnen
CATEGORIES:Rotary
END:VEVENT
BEGIN:VTIMEZONE
TZID:Europe/Zurich
BEGIN:DAYLIGHT
DTSTART:20160530T120000
TZNAME:CEST
TZOFFSETTO:+0200
TZOFFSETFROM:+0200
END:DAYLIGHT
END:VTIMEZONE
END:VCALENDAR
