BEGIN:VCALENDAR
PRODID:-//eluceo/ical//2.0/EN
VERSION:2.0
CALSCALE:GREGORIAN
BEGIN:VEVENT
UID:5727ecb693a22acf27d32dc2e94e0637
DTSTAMP:20260423T004718Z
SUMMARY:Erhaltungsmanagement - Warum?
DESCRIPTION:Govornik(ci): Dr. Rade Hajdin\, Zürich
URL:https://rotary-schwyz.ch/bs/agenda/show/68371
DTSTART;TZID=Europe/Zurich:20161121T120000
DTEND;TZID=Europe/Zurich:20161121T120000
LOCATION:Hotel Wysses Rössli\, Schwyz
CATEGORIES:Rotary
END:VEVENT
BEGIN:VTIMEZONE
TZID:Europe/Zurich
BEGIN:STANDARD
DTSTART:20161121T120000
TZNAME:CET
TZOFFSETTO:+0100
TZOFFSETFROM:+0100
END:STANDARD
END:VTIMEZONE
END:VCALENDAR
