BEGIN:VCALENDAR
PRODID:-//eluceo/ical//2.0/EN
VERSION:2.0
CALSCALE:GREGORIAN
BEGIN:VEVENT
UID:4683185c78a26a827a01d356e43ffa18
DTSTAMP:20260423T023319Z
SUMMARY:Plauderlunch in Brunnen
DESCRIPTION:
URL:https://rotary-schwyz.ch/bs/agenda/show/73693
DTSTART;TZID=Europe/Zurich:20170508T120000
DTEND;TZID=Europe/Zurich:20170508T120000
LOCATION:Seehotel Waldstätterhof\, Brunnen
CATEGORIES:Rotary
END:VEVENT
BEGIN:VTIMEZONE
TZID:Europe/Zurich
BEGIN:DAYLIGHT
DTSTART:20170508T120000
TZNAME:CEST
TZOFFSETTO:+0200
TZOFFSETFROM:+0200
END:DAYLIGHT
END:VTIMEZONE
END:VCALENDAR
