BEGIN:VCALENDAR
PRODID:-//eluceo/ical//2.0/EN
VERSION:2.0
CALSCALE:GREGORIAN
BEGIN:VEVENT
UID:ce786e57d45a12b4020a47ffa5247129
DTSTAMP:20260423T072914Z
SUMMARY:Menschenrechts(aus-)bildung und die Rolle der Uni Luzern
DESCRIPTION:Govornik(ci): Prof. Dr. Martina Caroni\, LL.M. (Yale)\nProrekto
 rin Lehre und internationale Beziehungen
URL:https://rotary-schwyz.ch/bs/agenda/show/81456
DTSTART;TZID=Europe/Zurich:20180122T120000
DTEND;TZID=Europe/Zurich:20180122T120000
LOCATION:Hotel Wysses Rössli\, Schwyz
CATEGORIES:Rotary
END:VEVENT
BEGIN:VTIMEZONE
TZID:Europe/Zurich
BEGIN:STANDARD
DTSTART:20180122T120000
TZNAME:CET
TZOFFSETTO:+0100
TZOFFSETFROM:+0100
END:STANDARD
END:VTIMEZONE
END:VCALENDAR
