BEGIN:VCALENDAR
PRODID:-//eluceo/ical//2.0/EN
VERSION:2.0
CALSCALE:GREGORIAN
BEGIN:VEVENT
UID:71e80f9276cb0089485b28684a5662e9
DTSTAMP:20260425T233328Z
SUMMARY:Wer wird Schwingerkönig? Ausblick aufs Eidg.
DESCRIPTION:Referenten/innen: Daniel von Euw\, eidg. Kranzschwinger
URL:https://rotary-schwyz.ch/de/agenda/show/31854
DTSTART;TZID=Europe/Zurich:20130819T120000
DTEND;TZID=Europe/Zurich:20130819T120000
LOCATION:Seehotel Waldstätterhof\, Brunnen
CATEGORIES:Rotary
END:VEVENT
BEGIN:VTIMEZONE
TZID:Europe/Zurich
BEGIN:DAYLIGHT
DTSTART:20130819T120000
TZNAME:CEST
TZOFFSETTO:+0200
TZOFFSETFROM:+0200
END:DAYLIGHT
END:VTIMEZONE
END:VCALENDAR
