BEGIN:VCALENDAR
PRODID:-//eluceo/ical//2.0/EN
VERSION:2.0
CALSCALE:GREGORIAN
BEGIN:VEVENT
UID:edb16f5bb53c524d2606aa74399d2f7f
DTSTAMP:20260425T213638Z
SUMMARY:1. Clubversammlung
DESCRIPTION:Referenten/innen: Präsident Bruno Frick
URL:https://rotary-schwyz.ch/de/agenda/show/31855
DTSTART;TZID=Europe/Zurich:20130826T120000
DTEND;TZID=Europe/Zurich:20130826T120000
LOCATION:Seehotel Waldstätterhof\, Brunnen
CATEGORIES:Rotary
END:VEVENT
BEGIN:VTIMEZONE
TZID:Europe/Zurich
BEGIN:DAYLIGHT
DTSTART:20130826T120000
TZNAME:CEST
TZOFFSETTO:+0200
TZOFFSETFROM:+0200
END:DAYLIGHT
END:VTIMEZONE
END:VCALENDAR
