BEGIN:VCALENDAR
PRODID:-//eluceo/ical//2.0/EN
VERSION:2.0
CALSCALE:GREGORIAN
BEGIN:VEVENT
UID:53062be00f98c359b4f3e3ff73e11f56
DTSTAMP:20260425T213147Z
SUMMARY:Rotarisches Übergewicht: Der Traum vom Sixpack
DESCRIPTION:Referenten/innen: Dipl. Ing. Ute Gemkow\, CEO Wismedes\, Zug
URL:https://rotary-schwyz.ch/de/agenda/show/34325
DTSTART;TZID=Europe/Zurich:20130902T120000
DTEND;TZID=Europe/Zurich:20130902T120000
LOCATION:Seehotel Waldstätterhof\, Brunnen
CATEGORIES:Rotary
END:VEVENT
BEGIN:VTIMEZONE
TZID:Europe/Zurich
BEGIN:DAYLIGHT
DTSTART:20130902T120000
TZNAME:CEST
TZOFFSETTO:+0200
TZOFFSETFROM:+0200
END:DAYLIGHT
END:VTIMEZONE
END:VCALENDAR
