BEGIN:VCALENDAR
PRODID:-//eluceo/ical//2.0/EN
VERSION:2.0
CALSCALE:GREGORIAN
BEGIN:VEVENT
UID:eb40176681f5c58bdaf1b834c08676c5
DTSTAMP:20260425T213005Z
SUMMARY:Plauderlunch in Küssnacht am Rigi
DESCRIPTION:
URL:https://rotary-schwyz.ch/de/agenda/show/34331
DTSTART;TZID=Europe/Zurich:20131014T120000
DTEND;TZID=Europe/Zurich:20131014T120000
LOCATION:Hotel du lac Seehof\, Küssnacht am Rigi
CATEGORIES:Rotary
END:VEVENT
BEGIN:VTIMEZONE
TZID:Europe/Zurich
BEGIN:DAYLIGHT
DTSTART:20131014T120000
TZNAME:CEST
TZOFFSETTO:+0200
TZOFFSETFROM:+0200
END:DAYLIGHT
END:VTIMEZONE
END:VCALENDAR
