BEGIN:VCALENDAR
PRODID:-//eluceo/ical//2.0/EN
VERSION:2.0
CALSCALE:GREGORIAN
BEGIN:VEVENT
UID:b97b20e380b1d8eca32d4d4d66d81433
DTSTAMP:20260425T182807Z
SUMMARY:Kein Rotary-Meeting (Mariä Empfängnis)
DESCRIPTION:
URL:https://rotary-schwyz.ch/de/agenda/show/45546
DTSTART;TZID=Europe/Zurich:20141208T000000
DTEND;TZID=Europe/Zurich:20141208T000000
LOCATION:-
CATEGORIES:Rotary
END:VEVENT
BEGIN:VTIMEZONE
TZID:Europe/Zurich
BEGIN:STANDARD
DTSTART:20141208T000000
TZNAME:CET
TZOFFSETTO:+0100
TZOFFSETFROM:+0100
END:STANDARD
END:VTIMEZONE
END:VCALENDAR
