BEGIN:VCALENDAR
PRODID:-//eluceo/ical//2.0/EN
VERSION:2.0
CALSCALE:GREGORIAN
BEGIN:VEVENT
UID:d1c57d8a865c3ae0463fdd502a41d83e
DTSTAMP:20260425T204641Z
SUMMARY:Weinpalaver Bordeaux. Partneranlass gemäss separater Einladung.
DESCRIPTION:Referenten/innen: Degustation mit Weinpapst René Gabriel
URL:https://rotary-schwyz.ch/de/agenda/show/48912
DTSTART;TZID=Europe/Zurich:20150302T183000
DTEND;TZID=Europe/Zurich:20150302T183000
LOCATION:Hotel Restaurant Seehof\, Küssnacht
CATEGORIES:Rotary
END:VEVENT
BEGIN:VTIMEZONE
TZID:Europe/Zurich
BEGIN:STANDARD
DTSTART:20150302T183000
TZNAME:CET
TZOFFSETTO:+0100
TZOFFSETFROM:+0100
END:STANDARD
END:VTIMEZONE
END:VCALENDAR
