BEGIN:VCALENDAR
PRODID:-//eluceo/ical//2.0/EN
VERSION:2.0
CALSCALE:GREGORIAN
BEGIN:VEVENT
UID:39cfeb94631c51b2e5b04a4430e13dbe
DTSTAMP:20260419T123325Z
SUMMARY:Sommerlicher Plauderlunch auf der Seeterrasse
DESCRIPTION:
URL:https://rotary-schwyz.ch/de/agenda/show/50424
DTSTART;TZID=Europe/Zurich:20150622T120000
DTEND;TZID=Europe/Zurich:20150622T120000
LOCATION:Seehotel Waldstätterhof\, Brunnen
CATEGORIES:Rotary
END:VEVENT
BEGIN:VTIMEZONE
TZID:Europe/Zurich
BEGIN:DAYLIGHT
DTSTART:20150622T120000
TZNAME:CEST
TZOFFSETTO:+0200
TZOFFSETFROM:+0200
END:DAYLIGHT
END:VTIMEZONE
END:VCALENDAR
