BEGIN:VCALENDAR
PRODID:-//eluceo/ical//2.0/EN
VERSION:2.0
CALSCALE:GREGORIAN
BEGIN:VEVENT
UID:1c89e7c93c9149477e5b9ecc739890e1
DTSTAMP:20260421T122021Z
SUMMARY:Plauderlunch in Brunnen
DESCRIPTION:
URL:https://rotary-schwyz.ch/de/agenda/show/51666
DTSTART;TZID=Europe/Zurich:20150810T120000
DTEND;TZID=Europe/Zurich:20150810T120000
LOCATION:Seehotel Waldstätterhof\, Brunnen
CATEGORIES:Rotary
END:VEVENT
BEGIN:VTIMEZONE
TZID:Europe/Zurich
BEGIN:DAYLIGHT
DTSTART:20150810T120000
TZNAME:CEST
TZOFFSETTO:+0200
TZOFFSETFROM:+0200
END:DAYLIGHT
END:VTIMEZONE
END:VCALENDAR
