BEGIN:VCALENDAR
PRODID:-//eluceo/ical//2.0/EN
VERSION:2.0
CALSCALE:GREGORIAN
BEGIN:VEVENT
UID:123bd691c6a53e6d0107c9bcdc77c55e
DTSTAMP:20260425T154942Z
SUMMARY:Besichtigung Brauerei Rosengarten\, Einsiedeln
DESCRIPTION:
URL:https://rotary-schwyz.ch/de/agenda/show/54597
DTSTART;TZID=Europe/Zurich:20151026T120000
DTEND;TZID=Europe/Zurich:20151026T120000
LOCATION:Brauerei Rosengarten\, Einsiedeln
CATEGORIES:Rotary
END:VEVENT
BEGIN:VTIMEZONE
TZID:Europe/Zurich
BEGIN:STANDARD
DTSTART:20151026T120000
TZNAME:CET
TZOFFSETTO:+0100
TZOFFSETFROM:+0100
END:STANDARD
END:VTIMEZONE
END:VCALENDAR
