BEGIN:VCALENDAR
PRODID:-//eluceo/ical//2.0/EN
VERSION:2.0
CALSCALE:GREGORIAN
BEGIN:VEVENT
UID:e46007dc6ec18ed46df3b393191021d9
DTSTAMP:20260425T154820Z
SUMMARY:Australienbericht
DESCRIPTION:Referenten/innen: Outbound Mara Vogel
URL:https://rotary-schwyz.ch/de/agenda/show/56014
DTSTART;TZID=Europe/Zurich:20151109T120000
DTEND;TZID=Europe/Zurich:20151109T120000
LOCATION:Hotel Wysses Rössli\, Schwyz
CATEGORIES:Rotary
END:VEVENT
BEGIN:VTIMEZONE
TZID:Europe/Zurich
BEGIN:STANDARD
DTSTART:20151109T120000
TZNAME:CET
TZOFFSETTO:+0100
TZOFFSETFROM:+0100
END:STANDARD
END:VTIMEZONE
END:VCALENDAR
