BEGIN:VCALENDAR
PRODID:-//eluceo/ical//2.0/EN
VERSION:2.0
CALSCALE:GREGORIAN
BEGIN:VEVENT
UID:11c7589f1388aab94280a16c770c7913
DTSTAMP:20260425T171636Z
SUMMARY:Plauderlunch in Schwyz
DESCRIPTION:
URL:https://rotary-schwyz.ch/de/agenda/show/56017
DTSTART;TZID=Europe/Zurich:20151130T120000
DTEND;TZID=Europe/Zurich:20151130T120000
LOCATION:Hotel Wysses Rössli\, Schwyz
CATEGORIES:Rotary
END:VEVENT
BEGIN:VTIMEZONE
TZID:Europe/Zurich
BEGIN:STANDARD
DTSTART:20151130T120000
TZNAME:CET
TZOFFSETTO:+0100
TZOFFSETFROM:+0100
END:STANDARD
END:VTIMEZONE
END:VCALENDAR
