BEGIN:VCALENDAR
PRODID:-//eluceo/ical//2.0/EN
VERSION:2.0
CALSCALE:GREGORIAN
BEGIN:VEVENT
UID:b1c29968575a1685aedefc19baeb3398
DTSTAMP:20260425T120805Z
SUMMARY:Plauderlunch am Küssnachter Chlaustag
DESCRIPTION:
URL:https://rotary-schwyz.ch/de/agenda/show/68373
DTSTART;TZID=Europe/Zurich:20161205T120000
DTEND;TZID=Europe/Zurich:20161205T120000
LOCATION:Hotel Restaurant Seehof\, Küssnacht
CATEGORIES:Rotary
END:VEVENT
BEGIN:VTIMEZONE
TZID:Europe/Zurich
BEGIN:STANDARD
DTSTART:20161205T120000
TZNAME:CET
TZOFFSETTO:+0100
TZOFFSETFROM:+0100
END:STANDARD
END:VTIMEZONE
END:VCALENDAR
