BEGIN:VCALENDAR
PRODID:-//eluceo/ical//2.0/EN
VERSION:2.0
CALSCALE:GREGORIAN
BEGIN:VEVENT
UID:0e7112d6347d1e88baca88f18152ec8e
DTSTAMP:20260425T120200Z
SUMMARY:Plauderlunch in Schwyz
DESCRIPTION:
URL:https://rotary-schwyz.ch/de/agenda/show/68375
DTSTART;TZID=Europe/Zurich:20161219T120000
DTEND;TZID=Europe/Zurich:20161219T120000
LOCATION:Hotel Wysses Rössli\, Schwyz
CATEGORIES:Rotary
END:VEVENT
BEGIN:VTIMEZONE
TZID:Europe/Zurich
BEGIN:STANDARD
DTSTART:20161219T120000
TZNAME:CET
TZOFFSETTO:+0100
TZOFFSETFROM:+0100
END:STANDARD
END:VTIMEZONE
END:VCALENDAR
