BEGIN:VCALENDAR
PRODID:-//eluceo/ical//2.0/EN
VERSION:2.0
CALSCALE:GREGORIAN
BEGIN:VEVENT
UID:7973fa7049d5308094578d2eae0ca07c
DTSTAMP:20260425T120759Z
SUMMARY:Plauderlunch in Küssnacht
DESCRIPTION:
URL:https://rotary-schwyz.ch/de/agenda/show/70230
DTSTART;TZID=Europe/Zurich:20170206T120000
DTEND;TZID=Europe/Zurich:20170206T120000
LOCATION:Hotel Restaurant Seehof\, Küssnacht am Rigi
CATEGORIES:Rotary
END:VEVENT
BEGIN:VTIMEZONE
TZID:Europe/Zurich
BEGIN:STANDARD
DTSTART:20170206T120000
TZNAME:CET
TZOFFSETTO:+0100
TZOFFSETFROM:+0100
END:STANDARD
END:VTIMEZONE
END:VCALENDAR
