BEGIN:VCALENDAR
PRODID:-//eluceo/ical//2.0/EN
VERSION:2.0
CALSCALE:GREGORIAN
BEGIN:VEVENT
UID:4fb18d4c0e95b5badc1a1b03c16427fa
DTSTAMP:20260419T131556Z
SUMMARY:Plauderlunch in Brunnen bzw. Pragel-Lauf gemäss separater Einladun
 g
DESCRIPTION:Website: http://www.waldstaetterhof.ch
URL:https://rotary-schwyz.ch/en/agenda/show/159608
DTSTART;TZID=Europe/Zurich:20230731T120000
DTEND;TZID=Europe/Zurich:20230731T133000
LOCATION:Seehotel Waldstätterhof\, Waldstätterquai 6\, 6440 Brunnen
CATEGORIES:Rotary
END:VEVENT
BEGIN:VTIMEZONE
TZID:Europe/Zurich
BEGIN:DAYLIGHT
DTSTART:20230731T120000
TZNAME:CEST
TZOFFSETTO:+0200
TZOFFSETFROM:+0200
END:DAYLIGHT
END:VTIMEZONE
END:VCALENDAR
