BEGIN:VCALENDAR
PRODID:-//eluceo/ical//2.0/EN
VERSION:2.0
CALSCALE:GREGORIAN
BEGIN:VEVENT
UID:3b16cd14bf28a4a10a8853d17606a08d
DTSTAMP:20260422T161852Z
SUMMARY:Trauerlunch Thomas Fischer\, Gasthaus Engel\, Küssnacht am Rigi
DESCRIPTION:Website: https://www.gasthausengel.ch/
URL:https://rotary-schwyz.ch/en/agenda/show/212239
DTSTART;TZID=Europe/Zurich:20260504T120000
DTEND;TZID=Europe/Zurich:20260504T133000
LOCATION:Gasthaus Engel\, Hauptplatz 1\, 6403 Küssnacht am Rigi\, Schweiz
CATEGORIES:Rotary
END:VEVENT
BEGIN:VTIMEZONE
TZID:Europe/Zurich
BEGIN:DAYLIGHT
DTSTART:20260504T120000
TZNAME:CEST
TZOFFSETTO:+0200
TZOFFSETFROM:+0200
END:DAYLIGHT
END:VTIMEZONE
END:VCALENDAR
