BEGIN:VCALENDAR
PRODID:-//eluceo/ical//2.0/EN
VERSION:2.0
CALSCALE:GREGORIAN
BEGIN:VEVENT
UID:dec9f45d6e8184e9244355ab5e6d8582
DTSTAMP:20260422T184249Z
SUMMARY:Aktuelle Trends und Regulierungen im Finanzgeschäft
DESCRIPTION:Speaker(s): Rot. Andreas Langenegger
URL:https://rotary-schwyz.ch/en/agenda/show/25947
DTSTART;TZID=Europe/Zurich:20120917T120000
DTEND;TZID=Europe/Zurich:20120917T120000
LOCATION:Seehotel Waldstätterhof\, Brunnen
CATEGORIES:Rotary
END:VEVENT
BEGIN:VTIMEZONE
TZID:Europe/Zurich
BEGIN:DAYLIGHT
DTSTART:20120917T120000
TZNAME:CEST
TZOFFSETTO:+0200
TZOFFSETFROM:+0200
END:DAYLIGHT
END:VTIMEZONE
END:VCALENDAR
