BEGIN:VCALENDAR
PRODID:-//eluceo/ical//2.0/EN
VERSION:2.0
CALSCALE:GREGORIAN
BEGIN:VEVENT
UID:77819acfb31a9a5fdf363481ecb866bd
DTSTAMP:20260422T183814Z
SUMMARY:Clubversammlung
DESCRIPTION:Speaker(s): Präsident Mathias Oechslin
URL:https://rotary-schwyz.ch/en/agenda/show/25949
DTSTART;TZID=Europe/Zurich:20121001T120000
DTEND;TZID=Europe/Zurich:20121001T120000
LOCATION:Hotel Wysses Rössli\, Schwyz
CATEGORIES:Rotary
END:VEVENT
BEGIN:VTIMEZONE
TZID:Europe/Zurich
BEGIN:DAYLIGHT
DTSTART:20121001T120000
TZNAME:CEST
TZOFFSETTO:+0200
TZOFFSETFROM:+0200
END:DAYLIGHT
END:VTIMEZONE
END:VCALENDAR
