BEGIN:VCALENDAR
PRODID:-//eluceo/ical//2.0/EN
VERSION:2.0
CALSCALE:GREGORIAN
BEGIN:VEVENT
UID:4ee13fcb811d51a6203a7e362030290b
DTSTAMP:20260422T215544Z
SUMMARY:Plauderlunch in Küssnacht am Rigi
DESCRIPTION:
URL:https://rotary-schwyz.ch/en/agenda/show/35679
DTSTART;TZID=Europe/Zurich:20131118T120000
DTEND;TZID=Europe/Zurich:20131118T120000
LOCATION:Hotel du lac Seehof\, Küssnacht
CATEGORIES:Rotary
END:VEVENT
BEGIN:VTIMEZONE
TZID:Europe/Zurich
BEGIN:STANDARD
DTSTART:20131118T120000
TZNAME:CET
TZOFFSETTO:+0100
TZOFFSETFROM:+0100
END:STANDARD
END:VTIMEZONE
END:VCALENDAR
