BEGIN:VCALENDAR
PRODID:-//eluceo/ical//2.0/EN
VERSION:2.0
CALSCALE:GREGORIAN
BEGIN:VEVENT
UID:064ead1198f9c8a842d90369ef3864bf
DTSTAMP:20260422T215843Z
SUMMARY:Heute Aktuell
DESCRIPTION:
URL:https://rotary-schwyz.ch/en/agenda/show/35682
DTSTART;TZID=Europe/Zurich:20131209T120000
DTEND;TZID=Europe/Zurich:20131209T120000
LOCATION:Hotel Wysses Rössli\, Schwyz
CATEGORIES:Rotary
END:VEVENT
BEGIN:VTIMEZONE
TZID:Europe/Zurich
BEGIN:STANDARD
DTSTART:20131209T120000
TZNAME:CET
TZOFFSETTO:+0100
TZOFFSETFROM:+0100
END:STANDARD
END:VTIMEZONE
END:VCALENDAR
