BEGIN:VCALENDAR
PRODID:-//eluceo/ical//2.0/EN
VERSION:2.0
CALSCALE:GREGORIAN
BEGIN:VEVENT
UID:b4ee0220c22dde29900db23735e0245b
DTSTAMP:20260423T215614Z
SUMMARY:2. Clubversammlung
DESCRIPTION:Orador(es): Präsident Dr. med. Mathias Oechslin
URL:https://rotary-schwyz.ch/es/agenda/show/29842
DTSTART;TZID=Europe/Zurich:20130415T120000
DTEND;TZID=Europe/Zurich:20130415T120000
LOCATION:Hotel Wysses Rössli\, Schwyz
CATEGORIES:Rotary
END:VEVENT
BEGIN:VTIMEZONE
TZID:Europe/Zurich
BEGIN:DAYLIGHT
DTSTART:20130415T120000
TZNAME:CEST
TZOFFSETTO:+0200
TZOFFSETFROM:+0200
END:DAYLIGHT
END:VTIMEZONE
END:VCALENDAR
