BEGIN:VCALENDAR
PRODID:-//eluceo/ical//2.0/EN
VERSION:2.0
CALSCALE:GREGORIAN
BEGIN:VEVENT
UID:c13f670bed1edde616af014f1c465c0f
DTSTAMP:20260424T210927Z
SUMMARY:"Chlefele" - Geister vertreiben und Lebensfreude wecken
DESCRIPTION:Orador(es): Röbi Kessler\, Schwyzer Brauchtumskenner
URL:https://rotary-schwyz.ch/es/agenda/show/38904
DTSTART;TZID=Europe/Zurich:20140310T120000
DTEND;TZID=Europe/Zurich:20140310T120000
LOCATION:Hotel Wysses Rössli\, Schwyz
CATEGORIES:Rotary
END:VEVENT
BEGIN:VTIMEZONE
TZID:Europe/Zurich
BEGIN:STANDARD
DTSTART:20140310T120000
TZNAME:CET
TZOFFSETTO:+0100
TZOFFSETFROM:+0100
END:STANDARD
END:VTIMEZONE
END:VCALENDAR
