BEGIN:VCALENDAR
PRODID:-//eluceo/ical//2.0/EN
VERSION:2.0
CALSCALE:GREGORIAN
BEGIN:VEVENT
UID:8a18ed7a82fb6f5cc4de97c4704b7f52
DTSTAMP:20260424T194151Z
SUMMARY:Plauderlunch in Küssnacht
DESCRIPTION:
URL:https://rotary-schwyz.ch/es/agenda/show/38905
DTSTART;TZID=Europe/Zurich:20140317T120000
DTEND;TZID=Europe/Zurich:20140317T120000
LOCATION:Hotel Seehof\, Küssnacht
CATEGORIES:Rotary
END:VEVENT
BEGIN:VTIMEZONE
TZID:Europe/Zurich
BEGIN:STANDARD
DTSTART:20140317T120000
TZNAME:CET
TZOFFSETTO:+0100
TZOFFSETFROM:+0100
END:STANDARD
END:VTIMEZONE
END:VCALENDAR
