BEGIN:VCALENDAR
PRODID:-//eluceo/ical//2.0/EN
VERSION:2.0
CALSCALE:GREGORIAN
BEGIN:VEVENT
UID:dbfd8562f088ffa45171c8ca0bec7a20
DTSTAMP:20260424T193423Z
SUMMARY:Zur Freude der Hörer\, zum Neid der Konkurrenz
DESCRIPTION:Orador(es): Alfons Spirig - Über Radio Central\, die Privatrad
 ios der Schweiz und das staatlich gehegte Radio SRF
URL:https://rotary-schwyz.ch/es/agenda/show/38906
DTSTART;TZID=Europe/Zurich:20140324T120000
DTEND;TZID=Europe/Zurich:20140324T120000
LOCATION:Hotel Wysses Rössli\, Schwyz
CATEGORIES:Rotary
END:VEVENT
BEGIN:VTIMEZONE
TZID:Europe/Zurich
BEGIN:STANDARD
DTSTART:20140324T120000
TZNAME:CET
TZOFFSETTO:+0100
TZOFFSETFROM:+0100
END:STANDARD
END:VTIMEZONE
END:VCALENDAR
