BEGIN:VCALENDAR
PRODID:-//eluceo/ical//2.0/EN
VERSION:2.0
CALSCALE:GREGORIAN
BEGIN:VEVENT
UID:7665c9968017838cacdf8a978667dbb8
DTSTAMP:20260424T211134Z
SUMMARY:Weniger Verbote! Mehr Genuss!
DESCRIPTION:Orador(es): Dr. David Signer\, Redaktor NZZ
URL:https://rotary-schwyz.ch/es/agenda/show/38908
DTSTART;TZID=Europe/Zurich:20140407T120000
DTEND;TZID=Europe/Zurich:20140407T120000
LOCATION:Seehotel Waldstätterhof\, Brunnen
CATEGORIES:Rotary
END:VEVENT
BEGIN:VTIMEZONE
TZID:Europe/Zurich
BEGIN:DAYLIGHT
DTSTART:20140407T120000
TZNAME:CEST
TZOFFSETTO:+0200
TZOFFSETFROM:+0200
END:DAYLIGHT
END:VTIMEZONE
END:VCALENDAR
