BEGIN:VCALENDAR
PRODID:-//eluceo/ical//2.0/EN
VERSION:2.0
CALSCALE:GREGORIAN
BEGIN:VEVENT
UID:169e5a2b226934c7e3cadd621fce295c
DTSTAMP:20260424T193848Z
SUMMARY:2. Clubversammlung
DESCRIPTION:Orador(es): Präsident Bruno Frick
URL:https://rotary-schwyz.ch/es/agenda/show/38909
DTSTART;TZID=Europe/Zurich:20140414T120000
DTEND;TZID=Europe/Zurich:20140414T120000
LOCATION:Seehotel Waldstätterhof\, Brunnen
CATEGORIES:Rotary
END:VEVENT
BEGIN:VTIMEZONE
TZID:Europe/Zurich
BEGIN:DAYLIGHT
DTSTART:20140414T120000
TZNAME:CEST
TZOFFSETTO:+0200
TZOFFSETFROM:+0200
END:DAYLIGHT
END:VTIMEZONE
END:VCALENDAR
