BEGIN:VCALENDAR
PRODID:-//eluceo/ical//2.0/EN
VERSION:2.0
CALSCALE:GREGORIAN
BEGIN:VEVENT
UID:1ab4f17bdf0cc944f4df196b1302095d
DTSTAMP:20260419T225152Z
SUMMARY:Blick hiner die Kulissen des "neuen" Waldstätterhofs
DESCRIPTION:Orador(es): Rot. Aloys von Reding
URL:https://rotary-schwyz.ch/es/agenda/show/40266
DTSTART;TZID=Europe/Zurich:20140505T113000
DTEND;TZID=Europe/Zurich:20140505T113000
LOCATION:Seehotel Waldstätterhof\, Brunnen
CATEGORIES:Rotary
END:VEVENT
BEGIN:VTIMEZONE
TZID:Europe/Zurich
BEGIN:DAYLIGHT
DTSTART:20140505T113000
TZNAME:CEST
TZOFFSETTO:+0200
TZOFFSETFROM:+0200
END:DAYLIGHT
END:VTIMEZONE
END:VCALENDAR
