BEGIN:VCALENDAR
PRODID:-//eluceo/ical//2.0/EN
VERSION:2.0
CALSCALE:GREGORIAN
BEGIN:VEVENT
UID:99d3d0d477ce1d202a3a5ea1358c29f8
DTSTAMP:20260420T074359Z
SUMMARY:Besichtigung der W. Schmidlin AG in Oberarth\, anschliessend Lunch 
 (Partneranlass)
DESCRIPTION:Orador(es): Gemäss sep. Programm
URL:https://rotary-schwyz.ch/es/agenda/show/61399
DTSTART;TZID=Europe/Zurich:20160627T100000
DTEND;TZID=Europe/Zurich:20160627T100000
LOCATION:W. Schmidlin AG\, Oberarth
CATEGORIES:Rotary
END:VEVENT
BEGIN:VTIMEZONE
TZID:Europe/Zurich
BEGIN:DAYLIGHT
DTSTART:20160627T100000
TZNAME:CEST
TZOFFSETTO:+0200
TZOFFSETFROM:+0200
END:DAYLIGHT
END:VTIMEZONE
END:VCALENDAR
