BEGIN:VCALENDAR
PRODID:-//eluceo/ical//2.0/EN
VERSION:2.0
CALSCALE:GREGORIAN
BEGIN:VEVENT
UID:f917ca7d36c77b1d1d51a99476814b76
DTSTAMP:20260420T074803Z
SUMMARY:Amtsübergabe an Präsident Beat Waldispühl (Partneranlass)
DESCRIPTION:Orador(es): Gemäss sep. Programm
URL:https://rotary-schwyz.ch/es/agenda/show/61400
DTSTART;TZID=Europe/Zurich:20160704T183000
DTEND;TZID=Europe/Zurich:20160704T183000
LOCATION:Tierpark Goldau\, Rest. Grüne Gans
CATEGORIES:Rotary
END:VEVENT
BEGIN:VTIMEZONE
TZID:Europe/Zurich
BEGIN:DAYLIGHT
DTSTART:20160704T183000
TZNAME:CEST
TZOFFSETTO:+0200
TZOFFSETFROM:+0200
END:DAYLIGHT
END:VTIMEZONE
END:VCALENDAR
