BEGIN:VCALENDAR
PRODID:-//eluceo/ical//2.0/EN
VERSION:2.0
CALSCALE:GREGORIAN
BEGIN:VEVENT
UID:8f8c91fd2cf3634259180201c77181c6
DTSTAMP:20260420T131726Z
SUMMARY:Plauderlunch an der Schwyzer Chilbi
DESCRIPTION:
URL:https://rotary-schwyz.ch/es/agenda/show/78472
DTSTART;TZID=Europe/Zurich:20171009T120000
DTEND;TZID=Europe/Zurich:20171009T120000
LOCATION:Hotel Wysses Rössli\, Schwyz
CATEGORIES:Rotary
END:VEVENT
BEGIN:VTIMEZONE
TZID:Europe/Zurich
BEGIN:DAYLIGHT
DTSTART:20171009T120000
TZNAME:CEST
TZOFFSETTO:+0200
TZOFFSETFROM:+0200
END:DAYLIGHT
END:VTIMEZONE
END:VCALENDAR
