BEGIN:VCALENDAR
PRODID:-//eluceo/ical//2.0/EN
VERSION:2.0
CALSCALE:GREGORIAN
BEGIN:VEVENT
UID:924ad1f420f00ad3413c76f579b20759
DTSTAMP:20260422T091944Z
SUMMARY:Früher Pelz - Heute Mode (Partneranlass)
DESCRIPTION:Orador(es): 10:30 Werkstattbesichtigung Werner Mode Schwyz\n12:
 00 Lunch im Hotel Wysses Rössli
URL:https://rotary-schwyz.ch/es/agenda/show/78473
DTSTART;TZID=Europe/Zurich:20171016T103000
DTEND;TZID=Europe/Zurich:20171016T103000
LOCATION:Hotel Wysses Rössli\, Schwyz
CATEGORIES:Rotary
END:VEVENT
BEGIN:VTIMEZONE
TZID:Europe/Zurich
BEGIN:DAYLIGHT
DTSTART:20171016T103000
TZNAME:CEST
TZOFFSETTO:+0200
TZOFFSETFROM:+0200
END:DAYLIGHT
END:VTIMEZONE
END:VCALENDAR
