BEGIN:VCALENDAR
PRODID:-//eluceo/ical//2.0/EN
VERSION:2.0
CALSCALE:GREGORIAN
BEGIN:VEVENT
UID:16ed77629e13ba9e14bceeca030138ee
DTSTAMP:20260425T122648Z
SUMMARY:2. Clubversammlung\, vorgängig 11:00 Vorstandssitzung
DESCRIPTION:
URL:https://rotary-schwyz.ch/fr/agenda/show/110973
DTSTART;TZID=Europe/Zurich:20200427T120000
DTEND;TZID=Europe/Zurich:20200427T133000
LOCATION:Seehotel Waldstätterhof
CATEGORIES:Rotary
END:VEVENT
BEGIN:VTIMEZONE
TZID:Europe/Zurich
BEGIN:DAYLIGHT
DTSTART:20200427T120000
TZNAME:CEST
TZOFFSETTO:+0200
TZOFFSETFROM:+0200
END:DAYLIGHT
END:VTIMEZONE
END:VCALENDAR
